BEGIN:VCALENDAR
VERSION:2.0
CALSCALE:GREGORIAN
METHOD:PUBLISH
X-WR-TIMEZONE:Australia/Sydney
BEGIN:VTIMEZONE
TZID:Australia/Sydney
BEGIN:STANDARD
TZNAME:AEST
END:STANDARD
END:VTIMEZONE
BEGIN:VEVENT
DTSTART;TZID=Australia/Sydney:20260424
DTEND;TZID=Australia/Sydney:20260424
DTSTAMP:20260420T232543
UID:1216
SUMMARY:SPS Celebrates Anzac Day
DESCRIPTION:




To honour those who have served our country, Seaford Primary School holds an annual ceremony where we pay our respect and thanks for their service, and sadly some their lives. The memoriam is a whole school event, being held the day before ANZAC day (24th April) as ANZAC day falls on a weekend. We take a moment of silence to remember the soliders, animals, nurses and all those who supported on the front lines in honouring our country.


SEQUENCE:0
STATUS:CONFIRMED
TRANSP:OPAQUE
END:VEVENT
END:VCALENDAR